BEGIN:VCALENDAR
VERSION:2.0
PRODID:-//NEBB - ECPv6.15.20//NONSGML v1.0//EN
CALSCALE:GREGORIAN
METHOD:PUBLISH
X-WR-CALNAME:NEBB
X-ORIGINAL-URL:https://www.nebb.org
X-WR-CALDESC:Events for NEBB
REFRESH-INTERVAL;VALUE=DURATION:PT1H
X-Robots-Tag:noindex
X-PUBLISHED-TTL:PT1H
BEGIN:VTIMEZONE
TZID:UTC
BEGIN:STANDARD
TZOFFSETFROM:+0000
TZOFFSETTO:+0000
TZNAME:UTC
DTSTART:20250101T000000
END:STANDARD
END:VTIMEZONE
BEGIN:VEVENT
DTSTART;VALUE=DATE:20260508
DTEND;VALUE=DATE:20260509
DTSTAMP:20260420T051059
CREATED:20250714T123030Z
LAST-MODIFIED:20250714T123030Z
UID:15927-1778198400-1778284799@www.nebb.org
SUMMARY:Capital-MarVa Recertification Seminar
DESCRIPTION:SAVE THE DATE\nFriday\, May 8\, 2026\n2026 Capital-MarVa International NEBB Recertification Seminar and Business Meeting\nCrown Plaza\n173 Jennifer Road\nAnnapolis\, MD 21401\n410.266.3131\nFor more information please contact Capital-MarVA Chapter Coordinator\, Barbara Huber\ncapmarvainternationalchapter@nebb.org
URL:https://www.nebb.org/event/capital-marva-recertification-seminar-5/
ATTACH;FMTTYPE=image/png:https://www.nebb.org/wp-content/uploads/2021/10/event-1.png
END:VEVENT
BEGIN:VEVENT
DTSTART;VALUE=DATE:20260508
DTEND;VALUE=DATE:20260509
DTSTAMP:20260420T051059
CREATED:20260309T142405Z
LAST-MODIFIED:20260309T142405Z
UID:16368-1778198400-1778284799@www.nebb.org
SUMMARY:Pacific Northwest EBB Chapter Recertification Seminar
DESCRIPTION:Save the Date \nPNEBB – Chapter Recertification Seminar\nMay 8\, 2026 \nEmbassy Suites by Hilton Portland Airport \n79000 NE 82nd Ave \nPortland\, OR 97220 \nFor more information please get in touch with PNEBB Chapter Coordinator\,\nAshleah Francis \npnebbchapter@nebb.org \n 
URL:https://www.nebb.org/event/pacific-northwest-ebb-chapter-recertification-seminar/
ATTACH;FMTTYPE=image/jpeg:https://www.nebb.org/wp-content/uploads/2026/03/PNEBB.jpg
END:VEVENT
BEGIN:VEVENT
DTSTART;VALUE=DATE:20260508
DTEND;VALUE=DATE:20260509
DTSTAMP:20260420T051059
CREATED:20260327T124429Z
LAST-MODIFIED:20260327T124429Z
UID:16391-1778198400-1778284799@www.nebb.org
SUMMARY:Northeast EBB- Chapter Recertification Seminar
DESCRIPTION:Save the Date \nNortheast EBB – Chapter Recertification Seminar\nMay 8\, 2026 \nMohegan Sun\, Uncasville CT \nFor more information please get in touch with Northeast EBB Chapter Coordinator\,\nErika Cross MacDonald \nnortheastchapter@nebb.org
URL:https://www.nebb.org/event/northeast-ebb-chapter-recertification-seminar/
ATTACH;FMTTYPE=image/svg+xml:https://www.nebb.org/wp-content/uploads/2023/09/NEBB_LOGO.svg
END:VEVENT
BEGIN:VEVENT
DTSTART;VALUE=DATE:20260511
DTEND;VALUE=DATE:20260513
DTSTAMP:20260420T051059
CREATED:20250901T233648Z
LAST-MODIFIED:20260323T123723Z
UID:16178-1778457600-1778630399@www.nebb.org
SUMMARY:Fume Hood Performance Testing Seminar - May 2026
DESCRIPTION:The seminar and exam will be held at NEBB TEC in Gaithersburg\, MD \nChemical fume hoods are one of the most important items of safety equipment present within the laboratory. It is vitally important they are properly used and maintained. Chemical fume hoods serve to control the accumulation of toxic\, flammable\, and offensive vapors by preventing their escape into the laboratory atmosphere. Fume hoods provide physical isolation and containment of chemicals and their reactions\, thus serving as a protective barrier between laboratory personnel and the chemical or chemical process within the hood. Chemical fume hoods are an important means of protecting professionals from chemical exposure. \nRegistration is now open! Please register through your certelligence account. \nPlease click below for the Seminar Brochure \nFHT Seminar Brochure  \nSeminar Registration Deadline: April 11\, 2026 \nFor questions about technical seminars\, please email training@nebb.org \nCertification Information \nIf you are interested in testing after the seminar\, please email certification@nebb.org for the candidacy application material.  \nPre-approval and payment are required before April 11th.
URL:https://www.nebb.org/event/fume-hood-performance-testing-seminar-may-2026/
ATTACH;FMTTYPE=image/jpeg:https://www.nebb.org/wp-content/uploads/2025/10/nebb_fume_hood_performance_testing_seminar_graphic.jpg
END:VEVENT
BEGIN:VEVENT
DTSTART;VALUE=DATE:20260514
DTEND;VALUE=DATE:20260516
DTSTAMP:20260420T051059
CREATED:20251027T151925Z
LAST-MODIFIED:20251027T151925Z
UID:16248-1778716800-1778889599@www.nebb.org
SUMMARY:Florida Environmental Balancing Bureau- Chapter Recertification Seminar
DESCRIPTION:Save the Date \nFlorida Environmental Balancing Bureau- Chapter Recertification Seminar\nMay 14-15\, 2026 \nOmni Champions Gate – Orlando \nFor more information please contact Florida Environmental Balancing Bureau Chapter Coordinator\,\nTerry Wichlenski \nfebbchapter@nebb.org
URL:https://www.nebb.org/event/florida-environmental-balancing-bureau-chapter-recertification-seminar-4/
ATTACH;FMTTYPE=image/jpeg:https://www.nebb.org/wp-content/uploads/2025/01/FEBB-LOGO60.jpg
END:VEVENT
BEGIN:VEVENT
DTSTART;VALUE=DATE:20260514
DTEND;VALUE=DATE:20260515
DTSTAMP:20260420T051059
CREATED:20260417T133759Z
LAST-MODIFIED:20260417T133759Z
UID:16404-1778716800-1778803199@www.nebb.org
SUMMARY:Capital-MarVa International NEBB TAB CP Practical Exam
DESCRIPTION:Capital-MarVa International NEBB CP Practical Exam\nMay 14\, 2026 \nCapital-MarVa International NEBB TAB CP Practical Exam \nLocation: Capital-MarVa Chapter Exam site located in Upper Marlboro\, MD. \nFor more information\, please contact the Capital-MarVa Chapter Coordinator\, \nBarbara Huber * 301-599-9450 * capmarvainternationalchapter@nebb.org.
URL:https://www.nebb.org/event/capital-marva-international-nebb-tab-cp-practical-exam-10/
ATTACH;FMTTYPE=image/png:https://www.nebb.org/wp-content/uploads/2021/10/event-1.png
END:VEVENT
BEGIN:VEVENT
DTSTART;VALUE=DATE:20260515
DTEND;VALUE=DATE:20270318
DTSTAMP:20260420T051059
CREATED:20250814T194300Z
LAST-MODIFIED:20250923T191413Z
UID:16153-1778803200-1805327999@www.nebb.org
SUMMARY:Pacific Southwest NEBB- Chapter Annual Educational Seminar
DESCRIPTION:Pacific Southwest NEBB will be rebroadcasting their Annual Educational Seminar \nMay 15\, 2026 \nFor more information please contact Pacific Southwest NEBB Chapter Coordinator\,\nJames Rosier \npacificswchapter@nebb.org
URL:https://www.nebb.org/event/pacific-southwest-nebb-chapter-annual-educational-seminar/
ATTACH;FMTTYPE=image/jpeg:https://www.nebb.org/wp-content/uploads/2024/09/nebblogo.jpg
END:VEVENT
BEGIN:VEVENT
DTSTART;VALUE=DATE:20260528
DTEND;VALUE=DATE:20260601
DTSTAMP:20260420T051059
CREATED:20250818T164103Z
LAST-MODIFIED:20260416T121141Z
UID:16157-1779926400-1780271999@www.nebb.org
SUMMARY:Testing Adjusting and Balancing Seminar CP - May 2026 *Sold Out*
DESCRIPTION:The seminar and exam will be held at NEBB TEC\, Gaithersburg\, MD \nIf you would like to be added to the wait list please email training@nebb.org \nThis seminar will cover engineering principles\, charts\, diagrams\, problem solving and techniques\, along with reviewing HVAC principles involved with TAB work and HVAC testing \nRegistration is now open! Please register through your certelligence account. \nPlease click below for the Seminar Brochure \nTAB Seminar Brochure  \nSeminar Registration Deadline: April 28\, 2026 \nPlease click below if you are interested in certification and/or taking the exam at this seminar. \nFor questions about technical seminars\, please email training@nebb.org. \nCertification Information \nIf you are interested in testing after the seminar\, please email certification@nebb.org for the candidacy application material. \n Pre-approval and payment are required before April 28th.
URL:https://www.nebb.org/event/testing-adjusting-and-balancing-seminar-cp-may-2026/
ATTACH;FMTTYPE=image/jpeg:https://www.nebb.org/wp-content/uploads/2025/09/nebb_testing_adjusting_balancing_seminar_cp.jpg
END:VEVENT
END:VCALENDAR