BEGIN:VCALENDAR
VERSION:2.0
PRODID:-//NEBB - ECPv6.15.20//NONSGML v1.0//EN
CALSCALE:GREGORIAN
METHOD:PUBLISH
X-ORIGINAL-URL:https://www.nebb.org
X-WR-CALDESC:Events for NEBB
REFRESH-INTERVAL;VALUE=DURATION:PT1H
X-Robots-Tag:noindex
X-PUBLISHED-TTL:PT1H
BEGIN:VTIMEZONE
TZID:UTC
BEGIN:STANDARD
TZOFFSETFROM:+0000
TZOFFSETTO:+0000
TZNAME:UTC
DTSTART:20250101T000000
END:STANDARD
END:VTIMEZONE
BEGIN:VEVENT
DTSTART;VALUE=DATE:20261217
DTEND;VALUE=DATE:20261218
DTSTAMP:20260420T051834
CREATED:20250901T235219Z
LAST-MODIFIED:20250901T235228Z
UID:16187-1797465600-1797551999@www.nebb.org
SUMMARY:CPT Exam Opportunity at NEBB TEC - December 2026
DESCRIPTION:CPT Practical Opportunity \nDecember 17\, 2026 \nNEBB is pleased to announce an opportunity to take CPT Practical on December 17\, 2026. The CPT seminar is NOT being offered in December 2026. \nLOCATION \nNEBB TEC \n8575 Grovemont Circle \nGaithersburg\, Maryland 20877 U.S.A. \nEXAM SCHEDULE \nThe exam schedule is as follows: \nThursday\, December 17\, 2026 \nCPT CP Practical \nRegistration begins at 7:30 am \nCPT CP practical exams begin at 8:00 am and end at 1:00 pm \nHOW TO REGISTER \nIf you are interested in taking your exam during this time\, email certification@nebb.org to reserve your spot. The deadline to register is Novemner 17\, 2026. \nTRAVEL INFORMATION \nWe recommend all attendees that are unfamiliar with NEBB TEC or require travel from another location review the following information prior to registering for the exam. \nHotels: \nExaminees can make reservations directly with the hotel of their choice. Below is a short list of hotels near the training center. Hotel and transportation costs are not covered by NEBB. \nHomewood Suites Gaithersburg \n805 Russell Avenue \nGaithersburg\, MD 20879 \n301-670-0008 \nBooking link \nHilton Garden Inn & Homewood Suites by Hilton Rockville\, MD \n14975 Shady Grove Road \nRockville\, MD  20850 \n240-507-1900 \nBooking link \nAirports: \nThree airports serve the Maryland/Washington Metropolitan area: \nRonald Reagan Washington National Airport (DCA): \n30 miles from the facility; 37 minutes average drive time. $80 average taxi fare. \nDulles International Airport (IAD): \n33 miles from the facility. 34 minutes average drive time. $80 average taxi fare. \nBaltimore/Washington International Airport (BWI): \n40 miles from the facility. 44 minutes average drive time. $100 average taxi fare.
URL:https://www.nebb.org/event/cpt-exam-opportunity-at-nebb-tec-december-2026/
ATTACH;FMTTYPE=image/png:https://www.nebb.org/wp-content/uploads/2021/10/event-2.png
END:VEVENT
END:VCALENDAR